BEGIN:VCALENDAR
VERSION:2.0
PRODID:-//FeRMI - ECPv6.15.20//NONSGML v1.0//EN
CALSCALE:GREGORIAN
METHOD:PUBLISH
X-WR-CALNAME:FeRMI
X-ORIGINAL-URL:https://fermi.univ-tlse3.fr
X-WR-CALDESC:Évènements pour FeRMI
REFRESH-INTERVAL;VALUE=DURATION:PT1H
X-Robots-Tag:noindex
X-PUBLISHED-TTL:PT1H
BEGIN:VTIMEZONE
TZID:Europe/Paris
BEGIN:DAYLIGHT
TZOFFSETFROM:+0100
TZOFFSETTO:+0200
TZNAME:CEST
DTSTART:20220327T010000
END:DAYLIGHT
BEGIN:STANDARD
TZOFFSETFROM:+0200
TZOFFSETTO:+0100
TZNAME:CET
DTSTART:20221030T010000
END:STANDARD
BEGIN:DAYLIGHT
TZOFFSETFROM:+0100
TZOFFSETTO:+0200
TZNAME:CEST
DTSTART:20230326T010000
END:DAYLIGHT
BEGIN:STANDARD
TZOFFSETFROM:+0200
TZOFFSETTO:+0100
TZNAME:CET
DTSTART:20231029T010000
END:STANDARD
BEGIN:DAYLIGHT
TZOFFSETFROM:+0100
TZOFFSETTO:+0200
TZNAME:CEST
DTSTART:20240331T010000
END:DAYLIGHT
BEGIN:STANDARD
TZOFFSETFROM:+0200
TZOFFSETTO:+0100
TZNAME:CET
DTSTART:20241027T010000
END:STANDARD
END:VTIMEZONE
BEGIN:VEVENT
DTSTART;VALUE=DATE:20230613
DTEND;VALUE=DATE:20230615
DTSTAMP:20260423T185827
CREATED:20230606T092900Z
LAST-MODIFIED:20230607T131400Z
UID:9029-1686614400-1686787199@fermi.univ-tlse3.fr
SUMMARY:Magnétisme et chiralité. - (Workshop / LNCMI Grenoble). - 13-14/06/2023
DESCRIPTION:Un workshop consacré à  » Magnétisme et chiralité  » est organisé les 13 et 14 juin 2023 au Laboratoire National des Champs Magnétiques Intenses de Grenoble. Il  réunira les communautés françaises du magnétisme moléculaire et de la chiralité\, toutes deux bien identifiées respectivement par l’Association Française du Magnétisme Moléculaire (AM2) et le GdR Chirafun\, autour d’une thématique en pleine expansion. \nEn savoir plus : http://lncmi.cnrs.fr/actualite/workshop-magnetisme-et-chiralite-au-lncmi/ \n  \n 
URL:https://fermi.univ-tlse3.fr/event/magnetisme-et-chiralite-workshop-lncmi-grenoble-13-14-06-2023/
CATEGORIES:Events,LNCMI,Symposium / Congress
END:VEVENT
END:VCALENDAR