BEGIN:VCALENDAR
VERSION:2.0
PRODID:-//FeRMI - ECPv6.15.20//NONSGML v1.0//EN
CALSCALE:GREGORIAN
METHOD:PUBLISH
X-WR-CALNAME:FeRMI
X-ORIGINAL-URL:https://fermi.univ-tlse3.fr
X-WR-CALDESC:Évènements pour FeRMI
REFRESH-INTERVAL;VALUE=DURATION:PT1H
X-Robots-Tag:noindex
X-PUBLISHED-TTL:PT1H
BEGIN:VTIMEZONE
TZID:Europe/Paris
BEGIN:DAYLIGHT
TZOFFSETFROM:+0100
TZOFFSETTO:+0200
TZNAME:CEST
DTSTART:20230326T010000
END:DAYLIGHT
BEGIN:STANDARD
TZOFFSETFROM:+0200
TZOFFSETTO:+0100
TZNAME:CET
DTSTART:20231029T010000
END:STANDARD
BEGIN:DAYLIGHT
TZOFFSETFROM:+0100
TZOFFSETTO:+0200
TZNAME:CEST
DTSTART:20240331T010000
END:DAYLIGHT
BEGIN:STANDARD
TZOFFSETFROM:+0200
TZOFFSETTO:+0100
TZNAME:CET
DTSTART:20241027T010000
END:STANDARD
BEGIN:DAYLIGHT
TZOFFSETFROM:+0100
TZOFFSETTO:+0200
TZNAME:CEST
DTSTART:20250330T010000
END:DAYLIGHT
BEGIN:STANDARD
TZOFFSETFROM:+0200
TZOFFSETTO:+0100
TZNAME:CET
DTSTART:20251026T010000
END:STANDARD
END:VTIMEZONE
BEGIN:VEVENT
DTSTART;TZID=Europe/Paris:20240429T133000
DTEND;TZID=Europe/Paris:20240430T170000
DTSTAMP:20260422T113836
CREATED:20240426T082413Z
LAST-MODIFIED:20240426T082413Z
UID:10346-1714397400-1714496400@fermi.univ-tlse3.fr
SUMMARY:NanoX-FeRMI Days 2024. - 29-30 april 2024
DESCRIPTION:Le rassemblement de la communauté NanoX-FeRMI aura lieu : \nlundi 29 avril prochain à l’INSA à l’amphi Sophie Germain à partir de 13h30 \ntoute la journée de mardi 30 avril à partir de 9h. \nRetrouvez le programme scientifique : ICI
URL:https://fermi.univ-tlse3.fr/event/nanox-fermi-days-2024-29-30-april-2024/
CATEGORIES:Events,Seminars,Symposium / Congress
END:VEVENT
END:VCALENDAR